0.207111
0.000000
0.000000
-0.207111
597729.009977
4211924.046347
