0.20000000000000
0.00000000000000
0.00000000000000
-0.20000000000000
559752.23600000003000
4231865.41999999990000
