0.800000
0.000000
0.000000
-0.800000
558148.865000
4229796.015000
