0.20000000000000
0.00000000000000
0.00000000000000
-0.20000000000000
604028.52500000002000
4213854.53500000010000
