0.797536
0
0
-0.797536
590973
4.21633e+006
